Name | Last modified | Size | Description | |
---|---|---|---|---|
Parent Directory | - | |||
buildbin-summary.dcf | 17-Oct-2023 00:37 | 519 | ||
buildbin-out.txt | 17-Oct-2023 00:37 | 7.4K | ||
checksrc-summary.dcf | 17-Oct-2023 00:37 | 435 | ||
checksrc-out.txt | 17-Oct-2023 00:37 | 4.4K | ||
buildsrc-summary.dcf | 17-Oct-2023 00:37 | 422 | ||
buildsrc-out.txt | 17-Oct-2023 00:37 | 838 | ||
install-summary.dcf | 17-Oct-2023 00:37 | 266 | ||
install-out.txt | 17-Oct-2023 00:37 | 5.4K | ||