Index of /checkResults/3.17/bioc-LATEST/PoDCall/raw-results
Name
Last modified
Size
Description
Parent Directory
-
info.dcf
30-Sep-2023 00:37
289
merida1/
30-Sep-2023 00:37
-
nebbiolo1/
30-Sep-2023 00:35
-
palomino3/
30-Sep-2023 00:36
-