Index of /checkResults/3.17/bioc-LATEST/Pigengene/raw-results/palomino3

[ICO]NameLast modifiedSizeDescription

[DIR]Parent Directory  -  
[TXT]buildbin-out.txt10-Jun-2023 00:06 1.1K 
[   ]buildbin-summary.dcf10-Jun-2023 00:06 527  
[TXT]buildsrc-out.txt10-Jun-2023 00:06 909  
[   ]buildsrc-summary.dcf10-Jun-2023 00:06 461  
[TXT]checksrc-out.txt10-Jun-2023 00:06 4.8K 
[   ]checksrc-summary.dcf10-Jun-2023 00:06 455  
[TXT]install-out.txt10-Jun-2023 00:06 1.0K 
[   ]install-summary.dcf10-Jun-2023 00:06 272