![]() | Name | Last modified | Size | Description |
---|---|---|---|---|
![]() | Parent Directory | - | ||
![]() | buildsrc-out.txt | 09-Jun-2023 00:05 | 877 | |
![]() | buildsrc-summary.dcf | 09-Jun-2023 00:05 | 424 | |
![]() | checksrc-out.txt | 09-Jun-2023 00:05 | 4.9K | |
![]() | checksrc-summary.dcf | 09-Jun-2023 00:05 | 422 | |
![]() | install-out.txt | 09-Jun-2023 00:05 | 966 | |
![]() | install-summary.dcf | 09-Jun-2023 00:05 | 263 | |