![]() | Name | Last modified | Size | Description |
---|---|---|---|---|
![]() | Parent Directory | - | ||
![]() | buildbin-out.txt | 10-Jun-2023 00:07 | 1.2K | |
![]() | buildbin-summary.dcf | 10-Jun-2023 00:07 | 542 | |
![]() | buildsrc-out.txt | 10-Jun-2023 00:07 | 887 | |
![]() | buildsrc-summary.dcf | 10-Jun-2023 00:07 | 434 | |
![]() | checksrc-out.txt | 10-Jun-2023 00:07 | 4.9K | |
![]() | checksrc-summary.dcf | 10-Jun-2023 00:07 | 453 | |
![]() | install-out.txt | 10-Jun-2023 00:07 | 1.0K | |
![]() | install-summary.dcf | 10-Jun-2023 00:07 | 273 | |