![]() | Name | Last modified | Size | Description |
---|---|---|---|---|
![]() | Parent Directory | - | ||
![]() | buildbin-out.txt | 24-Sep-2023 00:36 | 1.2K | |
![]() | buildbin-summary.dcf | 24-Sep-2023 00:36 | 560 | |
![]() | buildsrc-out.txt | 24-Sep-2023 00:36 | 899 | |
![]() | buildsrc-summary.dcf | 24-Sep-2023 00:36 | 443 | |
![]() | checksrc-out.txt | 24-Sep-2023 00:36 | 3.3K | |
![]() | checksrc-summary.dcf | 24-Sep-2023 00:36 | 464 | |
![]() | install-out.txt | 24-Sep-2023 00:36 | 1.0K | |
![]() | install-summary.dcf | 24-Sep-2023 00:36 | 279 | |