Name | Last modified | Size | Description | |
---|---|---|---|---|
Parent Directory | - | |||
install-summary.dcf | 17-Oct-2023 00:36 | 273 | ||
checksrc-summary.dcf | 17-Oct-2023 00:36 | 457 | ||
buildsrc-summary.dcf | 17-Oct-2023 00:36 | 463 | ||
buildbin-summary.dcf | 17-Oct-2023 00:36 | 530 | ||
buildsrc-out.txt | 17-Oct-2023 00:36 | 945 | ||
install-out.txt | 17-Oct-2023 00:36 | 2.5K | ||
buildbin-out.txt | 17-Oct-2023 00:36 | 2.7K | ||
checksrc-out.txt | 17-Oct-2023 00:36 | 9.2K | ||