Name | Last modified | Size | Description | |
---|---|---|---|---|
Parent Directory | - | |||
install-summary.dcf | 17-Oct-2023 00:35 | 264 | ||
checksrc-summary.dcf | 17-Oct-2023 00:35 | 424 | ||
buildsrc-summary.dcf | 17-Oct-2023 00:35 | 425 | ||
buildsrc-out.txt | 17-Oct-2023 00:35 | 910 | ||
install-out.txt | 17-Oct-2023 00:35 | 2.4K | ||
checksrc-out.txt | 17-Oct-2023 00:35 | 8.9K | ||