Name | Last modified | Size | Description | |
---|---|---|---|---|
Parent Directory | - | |||
install-summary.dcf | 17-Oct-2023 00:36 | 262 | ||
install-out.txt | 17-Oct-2023 00:36 | 2.9K | ||
checksrc-summary.dcf | 17-Oct-2023 00:36 | 441 | ||
checksrc-out.txt | 17-Oct-2023 00:36 | 11K | ||
buildsrc-summary.dcf | 17-Oct-2023 00:36 | 438 | ||
buildsrc-out.txt | 17-Oct-2023 00:36 | 916 | ||
buildbin-summary.dcf | 17-Oct-2023 00:36 | 496 | ||
buildbin-out.txt | 17-Oct-2023 00:36 | 3.0K | ||