Name | Last modified | Size | Description | |
---|---|---|---|---|
Parent Directory | - | |||
buildbin-out.txt | 17-Oct-2023 00:36 | 1.0K | ||
buildbin-summary.dcf | 17-Oct-2023 00:36 | 497 | ||
buildsrc-out.txt | 17-Oct-2023 00:36 | 824 | ||
buildsrc-summary.dcf | 17-Oct-2023 00:36 | 440 | ||
checksrc-out.txt | 17-Oct-2023 00:36 | 3.2K | ||
checksrc-summary.dcf | 17-Oct-2023 00:36 | 435 | ||
install-out.txt | 17-Oct-2023 00:36 | 953 | ||
install-summary.dcf | 17-Oct-2023 00:36 | 262 | ||