Name | Last modified | Size | Description | |
---|---|---|---|---|
Parent Directory | - | |||
buildbin-summary.dcf | 17-Oct-2023 00:36 | 496 | ||
buildbin-out.txt | 17-Oct-2023 00:36 | 4.4K | ||
checksrc-summary.dcf | 17-Oct-2023 00:36 | 441 | ||
checksrc-out.txt | 17-Oct-2023 00:36 | 6.1K | ||
buildsrc-summary.dcf | 17-Oct-2023 00:36 | 441 | ||
buildsrc-out.txt | 17-Oct-2023 00:36 | 824 | ||
install-summary.dcf | 17-Oct-2023 00:36 | 262 | ||
install-out.txt | 17-Oct-2023 00:36 | 4.3K | ||