![]() | Name | Last modified | Size | Description |
---|---|---|---|---|
![]() | Parent Directory | - | ||
![]() | install-summary.dcf | 17-Oct-2023 00:35 | 267 | |
![]() | buildsrc-summary.dcf | 17-Oct-2023 00:35 | 430 | |
![]() | checksrc-summary.dcf | 17-Oct-2023 00:35 | 437 | |
![]() | buildsrc-out.txt | 17-Oct-2023 00:35 | 822 | |
![]() | install-out.txt | 17-Oct-2023 00:35 | 964 | |
![]() | checksrc-out.txt | 17-Oct-2023 00:35 | 4.8K | |