Name | Last modified | Size | Description | |
---|---|---|---|---|
Parent Directory | - | |||
install-summary.dcf | 17-Oct-2023 00:37 | 284 | ||
install-out.txt | 17-Oct-2023 00:37 | 1.0K | ||
checksrc-summary.dcf | 17-Oct-2023 00:37 | 473 | ||
checksrc-out.txt | 17-Oct-2023 00:37 | 3.8K | ||
buildsrc-summary.dcf | 17-Oct-2023 00:37 | 447 | ||
buildsrc-out.txt | 17-Oct-2023 00:37 | 844 | ||
buildbin-summary.dcf | 17-Oct-2023 00:37 | 573 | ||
buildbin-out.txt | 17-Oct-2023 00:37 | 1.2K | ||