Index of /checkResults/3.17/bioc-LATEST/OmaDB/raw-results

[ICO]NameLast modifiedSizeDescription

[DIR]Parent Directory  -  
[   ]info.dcf29-Sep-2023 00:37 317  
[DIR]merida1/29-Sep-2023 00:37 -  
[DIR]nebbiolo1/29-Sep-2023 00:35 -  
[DIR]palomino3/29-Sep-2023 00:36 -