Name | Last modified | Size | Description | |
---|---|---|---|---|
Parent Directory | - | |||
buildbin-out.txt | 17-Oct-2023 00:36 | 1.1K | ||
buildbin-summary.dcf | 17-Oct-2023 00:36 | 496 | ||
buildsrc-out.txt | 17-Oct-2023 00:36 | 884 | ||
buildsrc-summary.dcf | 17-Oct-2023 00:36 | 438 | ||
checksrc-out.txt | 17-Oct-2023 00:36 | 4.9K | ||
checksrc-summary.dcf | 17-Oct-2023 00:36 | 434 | ||
install-out.txt | 17-Oct-2023 00:36 | 962 | ||
install-summary.dcf | 17-Oct-2023 00:36 | 262 | ||