Name | Last modified | Size | Description | |
---|---|---|---|---|
Parent Directory | - | |||
install-summary.dcf | 17-Oct-2023 00:35 | 255 | ||
install-out.txt | 17-Oct-2023 00:35 | 6.0K | ||
checksrc-summary.dcf | 17-Oct-2023 00:35 | 407 | ||
checksrc-out.txt | 17-Oct-2023 00:35 | 23K | ||
buildsrc-summary.dcf | 17-Oct-2023 00:35 | 412 | ||
buildsrc-out.txt | 17-Oct-2023 00:35 | 868 | ||