Name | Last modified | Size | Description | |
---|---|---|---|---|
Parent Directory | - | |||
checksrc-summary.dcf | 17-Oct-2023 00:35 | 401 | ||
checksrc-out.txt | 17-Oct-2023 00:35 | 4.7K | ||
buildsrc-summary.dcf | 17-Oct-2023 00:35 | 408 | ||
buildsrc-out.txt | 17-Oct-2023 00:35 | 857 | ||
install-summary.dcf | 17-Oct-2023 00:35 | 253 | ||
install-out.txt | 17-Oct-2023 00:35 | 951 | ||