Name | Last modified | Size | Description | |
---|---|---|---|---|
Parent Directory | - | |||
install-summary.dcf | 17-Oct-2023 00:37 | 275 | ||
buildsrc-summary.dcf | 17-Oct-2023 00:37 | 435 | ||
checksrc-summary.dcf | 17-Oct-2023 00:37 | 460 | ||
buildbin-summary.dcf | 17-Oct-2023 00:37 | 546 | ||
buildsrc-out.txt | 17-Oct-2023 00:37 | 1.1K | ||
checksrc-out.txt | 17-Oct-2023 00:37 | 4.5K | ||
install-out.txt | 17-Oct-2023 00:37 | 6.5K | ||
buildbin-out.txt | 17-Oct-2023 00:37 | 8.6K | ||