Name | Last modified | Size | Description | |
---|---|---|---|---|
Parent Directory | - | |||
install-out.txt | 17-Oct-2023 00:36 | 968 | ||
install-summary.dcf | 17-Oct-2023 00:36 | 266 | ||
buildsrc-out.txt | 17-Oct-2023 00:36 | 894 | ||
buildsrc-summary.dcf | 17-Oct-2023 00:36 | 448 | ||
checksrc-out.txt | 17-Oct-2023 00:36 | 11K | ||
checksrc-summary.dcf | 17-Oct-2023 00:36 | 442 | ||
buildbin-out.txt | 17-Oct-2023 00:36 | 1.1K | ||
buildbin-summary.dcf | 17-Oct-2023 00:36 | 509 | ||