![]() | Name | Last modified | Size | Description |
---|---|---|---|---|
![]() | Parent Directory | - | ||
![]() | buildsrc-out.txt | 05-Oct-2023 00:35 | 873 | |
![]() | buildsrc-summary.dcf | 05-Oct-2023 00:35 | 420 | |
![]() | checksrc-out.txt | 05-Oct-2023 00:35 | 3.5K | |
![]() | checksrc-summary.dcf | 05-Oct-2023 00:35 | 417 | |
![]() | install-out.txt | 05-Oct-2023 00:35 | 963 | |
![]() | install-summary.dcf | 05-Oct-2023 00:35 | 260 | |