Index of /checkResults/3.17/bioc-LATEST/NCIgraph/raw-results

[ICO]NameLast modifiedSizeDescription

[DIR]Parent Directory  -  
[   ]info.dcf03-Jun-2023 00:05 277  
[DIR]nebbiolo1/03-Jun-2023 00:05 -