![]() | Name | Last modified | Size | Description |
---|---|---|---|---|
![]() | Parent Directory | - | ||
![]() | buildbin-out.txt | 28-Sep-2023 00:37 | 1.2K | |
![]() | buildbin-summary.dcf | 28-Sep-2023 00:37 | 562 | |
![]() | buildsrc-out.txt | 28-Sep-2023 00:37 | 902 | |
![]() | buildsrc-summary.dcf | 28-Sep-2023 00:37 | 444 | |
![]() | checksrc-out.txt | 28-Sep-2023 00:37 | 3.6K | |
![]() | checksrc-summary.dcf | 28-Sep-2023 00:37 | 467 | |
![]() | install-out.txt | 28-Sep-2023 00:37 | 1.0K | |
![]() | install-summary.dcf | 28-Sep-2023 00:37 | 281 | |