Name | Last modified | Size | Description | |
---|---|---|---|---|
Parent Directory | - | |||
install-summary.dcf | 17-Oct-2023 00:37 | 278 | ||
install-out.txt | 17-Oct-2023 00:37 | 1.0K | ||
checksrc-summary.dcf | 17-Oct-2023 00:37 | 462 | ||
checksrc-out.txt | 17-Oct-2023 00:37 | 3.3K | ||
buildsrc-summary.dcf | 17-Oct-2023 00:37 | 440 | ||
buildsrc-out.txt | 17-Oct-2023 00:37 | 894 | ||
buildbin-summary.dcf | 17-Oct-2023 00:37 | 557 | ||
buildbin-out.txt | 17-Oct-2023 00:37 | 1.2K | ||