Name | Last modified | Size | Description | |
---|---|---|---|---|
Parent Directory | - | |||
checksrc-summary.dcf | 17-Oct-2023 00:35 | 448 | ||
checksrc-out.txt | 17-Oct-2023 00:35 | 3.4K | ||
buildsrc-summary.dcf | 17-Oct-2023 00:35 | 442 | ||
buildsrc-out.txt | 17-Oct-2023 00:35 | 841 | ||
install-summary.dcf | 17-Oct-2023 00:35 | 276 | ||
install-out.txt | 17-Oct-2023 00:35 | 1.0K | ||