Name | Last modified | Size | Description | |
---|---|---|---|---|
Parent Directory | - | |||
buildbin-out.txt | 17-Oct-2023 00:36 | 1.1K | ||
buildbin-summary.dcf | 17-Oct-2023 00:36 | 518 | ||
buildsrc-out.txt | 17-Oct-2023 00:36 | 843 | ||
buildsrc-summary.dcf | 17-Oct-2023 00:36 | 454 | ||
checksrc-out.txt | 17-Oct-2023 00:36 | 5.0K | ||
checksrc-summary.dcf | 17-Oct-2023 00:36 | 453 | ||
install-out.txt | 17-Oct-2023 00:36 | 965 | ||
install-summary.dcf | 17-Oct-2023 00:36 | 269 | ||