Name | Last modified | Size | Description | |
---|---|---|---|---|
Parent Directory | - | |||
buildsrc-out.txt | 17-Oct-2023 00:35 | 809 | ||
buildsrc-summary.dcf | 17-Oct-2023 00:35 | 418 | ||
checksrc-out.txt | 17-Oct-2023 00:35 | 3.8K | ||
checksrc-summary.dcf | 17-Oct-2023 00:35 | 416 | ||
install-out.txt | 17-Oct-2023 00:35 | 955 | ||
install-summary.dcf | 17-Oct-2023 00:35 | 260 | ||