Name | Last modified | Size | Description | |
---|---|---|---|---|
Parent Directory | - | |||
install-out.txt | 17-Oct-2023 00:37 | 1.0K | ||
install-summary.dcf | 17-Oct-2023 00:37 | 263 | ||
buildsrc-out.txt | 17-Oct-2023 00:37 | 844 | ||
buildsrc-summary.dcf | 17-Oct-2023 00:37 | 418 | ||
checksrc-out.txt | 17-Oct-2023 00:37 | 5.4K | ||
checksrc-summary.dcf | 17-Oct-2023 00:37 | 432 | ||
buildbin-out.txt | 17-Oct-2023 00:37 | 1.1K | ||
buildbin-summary.dcf | 17-Oct-2023 00:37 | 512 | ||