Index of /checkResults/3.17/bioc-LATEST/MAI/raw-results
Name
Last modified
Size
Description
Parent Directory
-
info.dcf
03-Oct-2023 00:37
287
merida1/
03-Oct-2023 00:37
-
nebbiolo1/
03-Oct-2023 00:35
-
palomino3/
03-Oct-2023 00:36
-