Name | Last modified | Size | Description | |
---|---|---|---|---|
Parent Directory | - | |||
checksrc-out.txt | 17-Oct-2023 00:36 | 15K | ||
buildbin-out.txt | 17-Oct-2023 00:36 | 1.8K | ||
install-out.txt | 17-Oct-2023 00:36 | 1.6K | ||
buildsrc-out.txt | 17-Oct-2023 00:36 | 1.0K | ||
buildbin-summary.dcf | 17-Oct-2023 00:36 | 596 | ||
buildsrc-summary.dcf | 17-Oct-2023 00:36 | 507 | ||
checksrc-summary.dcf | 17-Oct-2023 00:36 | 501 | ||
install-summary.dcf | 17-Oct-2023 00:36 | 295 | ||