Name | Last modified | Size | Description | |
---|---|---|---|---|
Parent Directory | - | |||
install-out.txt | 17-Oct-2023 00:37 | 1.8K | ||
install-summary.dcf | 17-Oct-2023 00:37 | 296 | ||
buildsrc-out.txt | 17-Oct-2023 00:37 | 964 | ||
buildsrc-summary.dcf | 17-Oct-2023 00:37 | 467 | ||
checksrc-out.txt | 17-Oct-2023 00:37 | 15K | ||
checksrc-summary.dcf | 17-Oct-2023 00:37 | 499 | ||
buildbin-out.txt | 17-Oct-2023 00:37 | 4.0K | ||
buildbin-summary.dcf | 17-Oct-2023 00:37 | 612 | ||