Name | Last modified | Size | Description | |
---|---|---|---|---|
Parent Directory | - | |||
checksrc-summary.dcf | 17-Oct-2023 00:35 | 418 | ||
checksrc-out.txt | 17-Oct-2023 00:35 | 3.9K | ||
buildsrc-summary.dcf | 17-Oct-2023 00:35 | 420 | ||
buildsrc-out.txt | 17-Oct-2023 00:35 | 810 | ||
install-summary.dcf | 17-Oct-2023 00:35 | 261 | ||
install-out.txt | 17-Oct-2023 00:35 | 1.0K | ||