Back to Multiple platform build/check report for BioC 3.17:   simplified   long
ABCDEFGH[I]JKLMNOPQRSTUVWXYZ

This page was generated on 2023-03-22 11:06:45 -0400 (Wed, 22 Mar 2023).

HostnameOSArch (*)R versionInstalled pkgs
nebbiolo1Linux (Ubuntu 22.04.1 LTS)x86_64R Under development (unstable) (2023-03-16 r83996) -- "Unsuffered Consequences" 4508
palomino3Windows Server 2022 Datacenterx64R Under development (unstable) (2023-03-15 r83984 ucrt) -- "Unsuffered Consequences" 4293
merida1macOS 10.14.6 Mojavex86_64R Under development (unstable) (2023-03-16 r83985) -- "Unsuffered Consequences" 4290
Click on any hostname to see more info about the system (e.g. compilers)      (*) as reported by 'uname -p', except on Windows and Mac OS X

CHECK results for InPAS on merida1


To the developers/maintainers of the InPAS package:
- Please allow up to 24 hours (and sometimes 48 hours) for your latest push to git@git.bioconductor.org:packages/InPAS.git to
reflect on this report. See How and When does the builder pull? When will my changes propagate? for more information.
- Make sure to use the following settings in order to reproduce any error or warning you see on this page.

raw results

Package 981/2189HostnameOS / ArchINSTALLBUILDCHECKBUILD BIN
InPAS 2.7.0  (landing page)
Jianhong Ou
Snapshot Date: 2023-03-21 14:00:22 -0400 (Tue, 21 Mar 2023)
git_url: https://git.bioconductor.org/packages/InPAS
git_branch: master
git_last_commit: e85a9a3
git_last_commit_date: 2022-11-01 11:11:19 -0400 (Tue, 01 Nov 2022)
nebbiolo1Linux (Ubuntu 22.04.1 LTS) / x86_64  OK    OK    OK  UNNEEDED, same version is already published
palomino3Windows Server 2022 Datacenter / x64  OK    OK    OK    OK  UNNEEDED, same version is already published
merida1macOS 10.14.6 Mojave / x86_64  OK    OK    OK    OK  UNNEEDED, same version is already published

Summary

Package: InPAS
Version: 2.7.0
Command: /Library/Frameworks/R.framework/Resources/bin/R CMD check --install=check:InPAS.install-out.txt --library=/Library/Frameworks/R.framework/Resources/library --no-vignettes --timings InPAS_2.7.0.tar.gz
StartedAt: 2023-03-22 02:41:15 -0400 (Wed, 22 Mar 2023)
EndedAt: 2023-03-22 02:56:28 -0400 (Wed, 22 Mar 2023)
EllapsedTime: 912.4 seconds
RetCode: 0
Status:   OK  
CheckDir: InPAS.Rcheck
Warnings: 0

Command output

##############################################################################
##############################################################################
###
### Running command:
###
###   /Library/Frameworks/R.framework/Resources/bin/R CMD check --install=check:InPAS.install-out.txt --library=/Library/Frameworks/R.framework/Resources/library --no-vignettes --timings InPAS_2.7.0.tar.gz
###
##############################################################################
##############################################################################


* using log directory ‘/Users/biocbuild/bbs-3.17-bioc/meat/InPAS.Rcheck’
* using R Under development (unstable) (2023-03-16 r83985)
* using platform: x86_64-apple-darwin17.0 (64-bit)
* R was compiled by
    Apple clang version 12.0.0 (clang-1200.0.32.29)
    GNU Fortran (GCC) 8.2.0
* running under: macOS Mojave 10.14.6
* using session charset: UTF-8
* using option ‘--no-vignettes’
* checking for file ‘InPAS/DESCRIPTION’ ... OK
* this is package ‘InPAS’ version ‘2.7.0’
* package encoding: UTF-8
* checking package namespace information ... OK
* checking package dependencies ... OK
* checking if this is a source package ... OK
* checking if there is a namespace ... OK
* checking for hidden files and directories ... OK
* checking for portable file names ... OK
* checking for sufficient/correct file permissions ... OK
* checking whether package ‘InPAS’ can be installed ... OK
* checking installed package size ... OK
* checking package directory ... OK
* checking ‘build’ directory ... OK
* checking DESCRIPTION meta-information ... OK
* checking top-level files ... OK
* checking for left-over files ... OK
* checking index information ... OK
* checking package subdirectories ... OK
* checking R files for non-ASCII characters ... OK
* checking R files for syntax errors ... OK
* checking whether the package can be loaded ... OK
* checking whether the package can be loaded with stated dependencies ... OK
* checking whether the package can be unloaded cleanly ... OK
* checking whether the namespace can be loaded with stated dependencies ... OK
* checking whether the namespace can be unloaded cleanly ... OK
* checking startup messages can be suppressed ... OK
* checking dependencies in R code ... NOTE
There are ::: calls to the package's namespace in its code. A package
  almost never needs to use ::: for its own objects:
  ‘adjust_distalCPs’ ‘adjust_proximalCPs’ ‘adjust_proximalCPsByNBC’
  ‘adjust_proximalCPsByPWM’ ‘calculate_mse’ ‘find_valleyBySpline’
  ‘get_PAscore’ ‘get_PAscore2’ ‘remove_convergentUTR3s’
  ‘search_distalCPs’ ‘search_proximalCPs’
* checking S3 generic/method consistency ... OK
* checking replacement functions ... OK
* checking foreign function calls ... OK
* checking R code for possible problems ... OK
* checking Rd files ... OK
* checking Rd metadata ... OK
* checking Rd cross-references ... OK
* checking for missing documentation entries ... OK
* checking for code/documentation mismatches ... OK
* checking Rd \usage sections ... OK
* checking Rd contents ... OK
* checking for unstated dependencies in examples ... OK
* checking contents of ‘data’ directory ... OK
* checking data for non-ASCII characters ... OK
* checking LazyData ... OK
* checking data for ASCII and uncompressed saves ... OK
* checking files in ‘vignettes’ ... OK
* checking examples ... OK
Examples with CPU (user + system) or elapsed time > 5s
                   user system elapsed
get_usage4plot   34.209  1.382  46.297
extract_UTR3Anno 12.523  0.584  17.216
get_chromosomes   9.989  0.171  13.638
parse_TxDb        4.360  0.092   5.844
* checking for unstated dependencies in ‘tests’ ... OK
* checking tests ...
  Running ‘runTests.R’
 OK
* checking for unstated dependencies in vignettes ... OK
* checking package vignettes in ‘inst/doc’ ... OK
* checking running R code from vignettes ... SKIPPED
* checking re-building of vignette outputs ... SKIPPED
* checking PDF version of manual ... OK
* DONE

Status: 1 NOTE
See
  ‘/Users/biocbuild/bbs-3.17-bioc/meat/InPAS.Rcheck/00check.log’
for details.



Installation output

InPAS.Rcheck/00install.out

##############################################################################
##############################################################################
###
### Running command:
###
###   /Library/Frameworks/R.framework/Resources/bin/R CMD INSTALL InPAS
###
##############################################################################
##############################################################################


* installing to library ‘/Library/Frameworks/R.framework/Versions/4.3/Resources/library’
* installing *source* package ‘InPAS’ ...
** using staged installation
** R
** data
*** moving datasets to lazyload DB
** inst
** byte-compile and prepare package for lazy loading
** help
*** installing help indices
** building package indices
** installing vignettes
** testing if installed package can be loaded from temporary location
** testing if installed package can be loaded from final location
** testing if installed package keeps a record of temporary installation path
* DONE (InPAS)

Tests output

InPAS.Rcheck/tests/runTests.Rout


R Under development (unstable) (2023-03-16 r83985) -- "Unsuffered Consequences"
Copyright (C) 2023 The R Foundation for Statistical Computing
Platform: x86_64-apple-darwin17.0 (64-bit)

R is free software and comes with ABSOLUTELY NO WARRANTY.
You are welcome to redistribute it under certain conditions.
Type 'license()' or 'licence()' for distribution details.

R is a collaborative project with many contributors.
Type 'contributors()' for more information and
'citation()' on how to cite R or R packages in publications.

Type 'demo()' for some demos, 'help()' for on-line help, or
'help.start()' for an HTML browser interface to help.
Type 'q()' to quit R.

> pkgs_required <- c(
+   "BSgenome.Mmusculus.UCSC.mm10",
+   "TxDb.Mmusculus.UCSC.mm10.knownGene",
+   "EnsDb.Mmusculus.v79",
+   "rtracklayer",
+   "GenomicRanges",
+   "RUnit",
+   "limma", "future.apply"
+ )
> for (pkg in pkgs_required)
+ {
+   require(pkg, character.only = TRUE) || stop(pkg, " can't be loaded!")
+ }
Loading required package: BSgenome.Mmusculus.UCSC.mm10
Loading required package: BSgenome
Loading required package: BiocGenerics

Attaching package: 'BiocGenerics'

The following objects are masked from 'package:stats':

    IQR, mad, sd, var, xtabs

The following objects are masked from 'package:base':

    Filter, Find, Map, Position, Reduce, anyDuplicated, aperm, append,
    as.data.frame, basename, cbind, colnames, dirname, do.call,
    duplicated, eval, evalq, get, grep, grepl, intersect, is.unsorted,
    lapply, mapply, match, mget, order, paste, pmax, pmax.int, pmin,
    pmin.int, rank, rbind, rownames, sapply, setdiff, sort, table,
    tapply, union, unique, unsplit, which.max, which.min

Loading required package: S4Vectors
Loading required package: stats4

Attaching package: 'S4Vectors'

The following objects are masked from 'package:base':

    I, expand.grid, unname

Loading required package: IRanges
Loading required package: GenomeInfoDb
Loading required package: GenomicRanges
Loading required package: Biostrings
Loading required package: XVector

Attaching package: 'Biostrings'

The following object is masked from 'package:base':

    strsplit

Loading required package: rtracklayer
Loading required package: TxDb.Mmusculus.UCSC.mm10.knownGene
Loading required package: GenomicFeatures
Loading required package: AnnotationDbi
Loading required package: Biobase
Welcome to Bioconductor

    Vignettes contain introductory material; view with
    'browseVignettes()'. To cite Bioconductor, see
    'citation("Biobase")', and for packages 'citation("pkgname")'.

Loading required package: EnsDb.Mmusculus.v79
Loading required package: ensembldb
Loading required package: AnnotationFilter

Attaching package: 'ensembldb'

The following object is masked from 'package:stats':

    filter

Loading required package: RUnit
Loading required package: limma

Attaching package: 'limma'

The following object is masked from 'package:BiocGenerics':

    plotMA

Loading required package: future.apply
Loading required package: future

Attaching package: 'future'

The following object is masked from 'package:AnnotationFilter':

    value

> 
> BiocGenerics:::testPackage("InPAS")
InPAS : Version 2.7.0
For more information see our website : https://bioconductor.org/packages/release/bioc/vignettes/InPAS/inst/doc/InPAS.html
If you encounter a bug, please report : https://github.com/jianhong/InPAS/InPAS/issues
coverage per sample per chromosome start at Wed Mar 22 02:55:47 2023.

coverage per sample per chromosome done at Wed Mar 22 02:55:47 2023.

total coverage start at Wed Mar 22 02:55:47 2023.

total coverage done at Wed Mar 22 02:55:47 2023.

backgroud around 3utr done at Wed Mar 22 02:55:47 2023.

utr3 TotalCov done at Wed Mar 22 02:55:47 2023.

chromsome chr1 coverage merged.

Preparation for CPsite search done at Wed Mar 22 02:55:48 2023.

No readable configuration file found
Created registry in '/private/tmp/Rtmp9ol0BD/006.CPsites.out_chr1' using cluster functions 'Interactive'
Adding 1 jobs ...
Submitting 1 jobs in 1 chunks using cluster functions 'Interactive' ...
coverage per sample per chromosome start at Wed Mar 22 02:56:06 2023.

coverage per sample per chromosome done at Wed Mar 22 02:56:06 2023.

total coverage start at Wed Mar 22 02:56:06 2023.

total coverage done at Wed Mar 22 02:56:06 2023.

backgroud around 3utr done at Wed Mar 22 02:56:06 2023.

utr3 TotalCov done at Wed Mar 22 02:56:06 2023.

chromsome chr1 coverage merged.

Preparation for CPsite search done at Wed Mar 22 02:56:06 2023.

No readable configuration file found
Created registry in '/private/tmp/Rtmp9ol0BD/006.CPsites.out_chr1' using cluster functions 'Interactive'
Adding 1 jobs ...
Submitting 1 jobs in 1 chunks using cluster functions 'Interactive' ...
Error in get_ssRleCov(bedgraph = filenames[i], tag = tags[i], genome = genome,  : 
  seqlevelsStyle of genome is different from bedgraph file.


RUNIT TEST PROTOCOL -- Wed Mar 22 02:56:10 2023 
*********************************************** 
Number of test functions: 3 
Number of errors: 0 
Number of failures: 0 

 
1 Test Suite : 
InPAS RUnit Tests - 3 test functions, 0 errors, 0 failures
Number of test functions: 3 
Number of errors: 0 
Number of failures: 0 
> 
> proc.time()
   user  system elapsed 
 54.443   1.869  76.862 

Example timings

InPAS.Rcheck/InPAS-Ex.timings

nameusersystemelapsed
addInPASTxDb0.5260.0230.728
assemble_allCov0.0060.0010.009
extract_UTR3Anno12.523 0.58417.216
filter_testOut0.2800.0140.389
gcComp000
gcContents000
getInPASTxDb0.2880.0160.387
get_UTR3eSet0.0270.0020.038
get_chromosomes 9.989 0.17113.638
get_seqLen0.3250.0190.487
get_ssRleCov0.0050.0010.007
get_usage4plot34.209 1.38246.297
parse_TxDb4.3600.0925.844
run_coverageQC0.0120.0010.017
run_singleGroupAnalysis0.0190.0000.022
run_singleSampleAnalysis0.0050.0000.005
search_CPs0.0220.0010.033
setup_CPsSearch0.0100.0010.011
setup_GSEA0.0500.0020.068
setup_sqlitedb0.0020.0000.006
test_dPDUI0.0420.0020.050