Name | Last modified | Size | Description | |
---|---|---|---|---|
Parent Directory | - | |||
buildbin-out.txt | 17-Oct-2023 00:37 | 8.2K | ||
install-out.txt | 17-Oct-2023 00:37 | 6.2K | ||
checksrc-out.txt | 17-Oct-2023 00:37 | 4.8K | ||
buildsrc-out.txt | 17-Oct-2023 00:37 | 908 | ||
buildbin-summary.dcf | 17-Oct-2023 00:37 | 528 | ||
checksrc-summary.dcf | 17-Oct-2023 00:37 | 448 | ||
buildsrc-summary.dcf | 17-Oct-2023 00:37 | 425 | ||
install-summary.dcf | 17-Oct-2023 00:37 | 269 | ||