![]() | Name | Last modified | Size | Description |
---|---|---|---|---|
![]() | Parent Directory | - | ||
![]() | buildbin-out.txt | 05-Oct-2023 00:36 | 1.1K | |
![]() | buildbin-summary.dcf | 05-Oct-2023 00:36 | 514 | |
![]() | buildsrc-out.txt | 05-Oct-2023 00:36 | 899 | |
![]() | buildsrc-summary.dcf | 05-Oct-2023 00:36 | 453 | |
![]() | checksrc-out.txt | 05-Oct-2023 00:36 | 4.0K | |
![]() | checksrc-summary.dcf | 05-Oct-2023 00:36 | 447 | |
![]() | install-out.txt | 05-Oct-2023 00:36 | 971 | |
![]() | install-summary.dcf | 05-Oct-2023 00:36 | 268 | |