Index of /checkResults/3.17/bioc-LATEST/HiCool/raw-results/palomino3
Name
Last modified
Size
Description
Parent Directory
-
buildsrc-summary.dcf
05-Apr-2023 00:05
377
buildsrc-out.txt
05-Apr-2023 00:05
4.2K
install-summary.dcf
05-Apr-2023 00:05
266
install-out.txt
05-Apr-2023 00:05
838