Name | Last modified | Size | Description | |
---|---|---|---|---|
Parent Directory | - | |||
buildbin-out.txt | 17-Oct-2023 00:37 | 1.0K | ||
buildbin-summary.dcf | 17-Oct-2023 00:37 | 521 | ||
buildsrc-out.txt | 17-Oct-2023 00:37 | 851 | ||
buildsrc-summary.dcf | 17-Oct-2023 00:37 | 423 | ||
checksrc-out.txt | 17-Oct-2023 00:37 | 3.9K | ||
checksrc-summary.dcf | 17-Oct-2023 00:37 | 438 | ||
install-out.txt | 17-Oct-2023 00:37 | 864 | ||
install-summary.dcf | 17-Oct-2023 00:37 | 266 | ||