Name | Last modified | Size | Description | |
---|---|---|---|---|
Parent Directory | - | |||
buildsrc-out.txt | 17-Oct-2023 00:35 | 1.2K | ||
buildsrc-summary.dcf | 17-Oct-2023 00:35 | 339 | ||
checksrc-out.txt | 14-Jun-2023 01:07 | 5.7K | ||
checksrc-summary.dcf | 14-Jun-2023 01:07 | 428 | ||
install-out.txt | 17-Oct-2023 00:35 | 961 | ||
install-summary.dcf | 17-Oct-2023 00:35 | 264 | ||