Name | Last modified | Size | Description | |
---|---|---|---|---|
Parent Directory | - | |||
buildsrc-out.txt | 17-Oct-2023 00:35 | 872 | ||
buildsrc-summary.dcf | 17-Oct-2023 00:35 | 415 | ||
checksrc-out.txt | 17-Oct-2023 00:35 | 3.8K | ||
checksrc-summary.dcf | 17-Oct-2023 00:35 | 410 | ||
install-out.txt | 17-Oct-2023 00:35 | 2.6K | ||
install-summary.dcf | 17-Oct-2023 00:35 | 257 | ||