Name | Last modified | Size | Description | |
---|---|---|---|---|
Parent Directory | - | |||
buildbin-out.txt | 17-Oct-2023 00:36 | 204K | ||
buildbin-summary.dcf | 17-Oct-2023 00:36 | 488 | ||
buildsrc-out.txt | 17-Oct-2023 00:36 | 910 | ||
buildsrc-summary.dcf | 17-Oct-2023 00:36 | 432 | ||
checksrc-out.txt | 17-Oct-2023 00:36 | 4.6K | ||
checksrc-summary.dcf | 17-Oct-2023 00:36 | 435 | ||
install-out.txt | 17-Oct-2023 00:36 | 204K | ||
install-summary.dcf | 17-Oct-2023 00:36 | 259 | ||