Name | Last modified | Size | Description | |
---|---|---|---|---|
Parent Directory | - | |||
buildbin-out.txt | 17-Oct-2023 00:37 | 79K | ||
buildbin-summary.dcf | 17-Oct-2023 00:37 | 504 | ||
buildsrc-out.txt | 17-Oct-2023 00:37 | 892 | ||
buildsrc-summary.dcf | 17-Oct-2023 00:37 | 414 | ||
checksrc-out.txt | 17-Oct-2023 00:37 | 4.3K | ||
checksrc-summary.dcf | 17-Oct-2023 00:37 | 432 | ||
install-out.txt | 17-Oct-2023 00:37 | 77K | ||
install-summary.dcf | 17-Oct-2023 00:37 | 261 | ||