Name | Last modified | Size | Description | |
---|---|---|---|---|
Parent Directory | - | |||
buildbin-out.txt | 17-Oct-2023 00:36 | 9.8K | ||
install-out.txt | 17-Oct-2023 00:36 | 9.6K | ||
checksrc-out.txt | 17-Oct-2023 00:36 | 4.7K | ||
buildsrc-out.txt | 17-Oct-2023 00:36 | 791 | ||
buildbin-summary.dcf | 17-Oct-2023 00:36 | 527 | ||
buildsrc-summary.dcf | 17-Oct-2023 00:36 | 459 | ||
checksrc-summary.dcf | 17-Oct-2023 00:36 | 456 | ||
install-summary.dcf | 17-Oct-2023 00:36 | 272 | ||