Name | Last modified | Size | Description | |
---|---|---|---|---|
Parent Directory | - | |||
buildsrc-out.txt | 17-Oct-2023 00:35 | 864 | ||
buildsrc-summary.dcf | 17-Oct-2023 00:35 | 437 | ||
checksrc-out.txt | 17-Oct-2023 00:35 | 5.6K | ||
checksrc-summary.dcf | 17-Oct-2023 00:35 | 447 | ||
install-out.txt | 17-Oct-2023 00:35 | 4.7K | ||
install-summary.dcf | 17-Oct-2023 00:35 | 272 | ||