Name | Last modified | Size | Description | |
---|---|---|---|---|
Parent Directory | - | |||
buildbin-out.txt | 17-Oct-2023 00:37 | 5.7K | ||
buildbin-summary.dcf | 17-Oct-2023 00:37 | 572 | ||
buildsrc-out.txt | 17-Oct-2023 00:37 | 874 | ||
buildsrc-summary.dcf | 17-Oct-2023 00:37 | 448 | ||
checksrc-out.txt | 17-Oct-2023 00:37 | 5.0K | ||
checksrc-summary.dcf | 17-Oct-2023 00:37 | 471 | ||
install-out.txt | 17-Oct-2023 00:37 | 3.7K | ||
install-summary.dcf | 17-Oct-2023 00:37 | 283 | ||