Name | Last modified | Size | Description | |
---|---|---|---|---|
Parent Directory | - | |||
buildbin-summary.dcf | 17-Oct-2023 00:37 | 567 | ||
buildbin-out.txt | 17-Oct-2023 00:37 | 1.2K | ||
checksrc-summary.dcf | 17-Oct-2023 00:37 | 468 | ||
checksrc-out.txt | 17-Oct-2023 00:37 | 3.9K | ||
buildsrc-summary.dcf | 17-Oct-2023 00:37 | 446 | ||
buildsrc-out.txt | 17-Oct-2023 00:37 | 840 | ||
install-summary.dcf | 17-Oct-2023 00:37 | 281 | ||
install-out.txt | 17-Oct-2023 00:37 | 1.0K | ||