![]() | Name | Last modified | Size | Description |
---|---|---|---|---|
![]() | Parent Directory | - | ||
![]() | buildsrc-out.txt | 30-Sep-2023 00:35 | 917 | |
![]() | buildsrc-summary.dcf | 30-Sep-2023 00:35 | 453 | |
![]() | checksrc-out.txt | 30-Sep-2023 00:35 | 4.0K | |
![]() | checksrc-summary.dcf | 30-Sep-2023 00:35 | 462 | |
![]() | install-out.txt | 30-Sep-2023 00:35 | 1.0K | |
![]() | install-summary.dcf | 30-Sep-2023 00:35 | 283 | |