![]() | Name | Last modified | Size | Description |
---|---|---|---|---|
![]() | Parent Directory | - | ||
![]() | buildbin-out.txt | 24-Sep-2023 00:36 | 1.3K | |
![]() | buildbin-summary.dcf | 24-Sep-2023 00:36 | 587 | |
![]() | buildsrc-out.txt | 24-Sep-2023 00:36 | 918 | |
![]() | buildsrc-summary.dcf | 24-Sep-2023 00:36 | 456 | |
![]() | checksrc-out.txt | 24-Sep-2023 00:36 | 3.9K | |
![]() | checksrc-summary.dcf | 24-Sep-2023 00:36 | 482 | |
![]() | install-out.txt | 24-Sep-2023 00:36 | 1.1K | |
![]() | install-summary.dcf | 24-Sep-2023 00:36 | 288 | |