Name | Last modified | Size | Description | |
---|---|---|---|---|
Parent Directory | - | |||
buildbin-summary.dcf | 17-Oct-2023 00:36 | 581 | ||
buildbin-out.txt | 17-Oct-2023 00:36 | 2.4K | ||
checksrc-summary.dcf | 17-Oct-2023 00:36 | 490 | ||
checksrc-out.txt | 17-Oct-2023 00:36 | 4.6K | ||
buildsrc-summary.dcf | 17-Oct-2023 00:36 | 497 | ||
buildsrc-out.txt | 17-Oct-2023 00:36 | 926 | ||
install-summary.dcf | 17-Oct-2023 00:36 | 290 | ||
install-out.txt | 17-Oct-2023 00:36 | 2.2K | ||