Name | Last modified | Size | Description | |
---|---|---|---|---|
Parent Directory | - | |||
buildbin-out.txt | 17-Oct-2023 00:36 | 1.8K | ||
buildbin-summary.dcf | 17-Oct-2023 00:36 | 550 | ||
buildsrc-out.txt | 17-Oct-2023 00:36 | 901 | ||
buildsrc-summary.dcf | 17-Oct-2023 00:36 | 476 | ||
checksrc-out.txt | 17-Oct-2023 00:36 | 5.6K | ||
checksrc-summary.dcf | 17-Oct-2023 00:36 | 471 | ||
install-out.txt | 17-Oct-2023 00:36 | 1.6K | ||
install-summary.dcf | 17-Oct-2023 00:36 | 280 | ||