Index of /checkResults/3.17/bioc-LATEST/GeneAccord/raw-results/nebbiolo1
Name
Last modified
Size
Description
Parent Directory
-
buildsrc-out.txt
17-Oct-2023 00:35
1.0K
buildsrc-summary.dcf
17-Oct-2023 00:35
339
install-out.txt
17-Oct-2023 00:35
1.2K
install-summary.dcf
17-Oct-2023 00:35
265