Name | Last modified | Size | Description | |
---|---|---|---|---|
Parent Directory | - | |||
checksrc-out.txt | 17-Oct-2023 00:35 | 3.4K | ||
install-out.txt | 17-Oct-2023 00:35 | 1.0K | ||
buildsrc-out.txt | 17-Oct-2023 00:35 | 921 | ||
checksrc-summary.dcf | 17-Oct-2023 00:35 | 434 | ||
buildsrc-summary.dcf | 17-Oct-2023 00:35 | 432 | ||
install-summary.dcf | 17-Oct-2023 00:35 | 269 | ||